BEGIN:VCALENDAR
VERSION:2.0
PRODID:-//Yves Romão - ECPv6.15.20//NONSGML v1.0//EN
CALSCALE:GREGORIAN
METHOD:PUBLISH
X-WR-CALNAME:Yves Romão
X-ORIGINAL-URL:https://www.yvesromao.fr
X-WR-CALDESC:Évènements pour Yves Romão
REFRESH-INTERVAL;VALUE=DURATION:PT1H
X-Robots-Tag:noindex
X-PUBLISHED-TTL:PT1H
BEGIN:VTIMEZONE
TZID:Europe/Paris
BEGIN:DAYLIGHT
TZOFFSETFROM:+0100
TZOFFSETTO:+0200
TZNAME:CEST
DTSTART:20250330T010000
END:DAYLIGHT
BEGIN:STANDARD
TZOFFSETFROM:+0200
TZOFFSETTO:+0100
TZNAME:CET
DTSTART:20251026T010000
END:STANDARD
BEGIN:DAYLIGHT
TZOFFSETFROM:+0100
TZOFFSETTO:+0200
TZNAME:CEST
DTSTART:20260329T010000
END:DAYLIGHT
BEGIN:STANDARD
TZOFFSETFROM:+0200
TZOFFSETTO:+0100
TZNAME:CET
DTSTART:20261025T010000
END:STANDARD
BEGIN:DAYLIGHT
TZOFFSETFROM:+0100
TZOFFSETTO:+0200
TZNAME:CEST
DTSTART:20270328T010000
END:DAYLIGHT
BEGIN:STANDARD
TZOFFSETFROM:+0200
TZOFFSETTO:+0100
TZNAME:CET
DTSTART:20271031T010000
END:STANDARD
END:VTIMEZONE
BEGIN:VEVENT
DTSTART;TZID=Europe/Paris:20260423T150000
DTEND;TZID=Europe/Paris:20260423T160000
DTSTAMP:20260420T033506
CREATED:20260106T091950Z
LAST-MODIFIED:20260106T091950Z
UID:85886-1776956400-1776960000@www.yvesromao.fr
SUMMARY:Concert Privé – Saint-Laurent-sur-Saône (01)
DESCRIPTION:
URL:https://www.yvesromao.fr/date/concert-prive-saint-laurent-sur-saone-01/
LOCATION:Saint-Laurent-sur-Saône\, 01750\, France
END:VEVENT
BEGIN:VEVENT
DTSTART;TZID=Europe/Paris:20260505T170000
DTEND;TZID=Europe/Paris:20260505T180000
DTSTAMP:20260420T033506
CREATED:20260106T092049Z
LAST-MODIFIED:20260106T092049Z
UID:85890-1778000400-1778004000@www.yvesromao.fr
SUMMARY:Concert Privé – Bouilly (10)
DESCRIPTION:
URL:https://www.yvesromao.fr/date/concert-prive-bouilly-10-2/
LOCATION:Bouilly\, Bouilly\, 10320
END:VEVENT
BEGIN:VEVENT
DTSTART;TZID=Europe/Paris:20260511T143000
DTEND;TZID=Europe/Paris:20260511T153000
DTSTAMP:20260420T033506
CREATED:20260106T092201Z
LAST-MODIFIED:20260106T092201Z
UID:85893-1778509800-1778513400@www.yvesromao.fr
SUMMARY:Restitution Cité Éducative – Les-Noës-près-Troyes (10)
DESCRIPTION:
URL:https://www.yvesromao.fr/date/restitution-cite-educative-les-noes-pres-troyes-10/
LOCATION:Les-Noës-près-Troyes\, Les-Noës-près-Troyes\, 10265
END:VEVENT
BEGIN:VEVENT
DTSTART;TZID=Europe/Paris:20260521T190000
DTEND;TZID=Europe/Paris:20260521T210000
DTSTAMP:20260420T033506
CREATED:20260312T150642Z
LAST-MODIFIED:20260312T151337Z
UID:85931-1779390000-1779397200@www.yvesromao.fr
SUMMARY:5 ans Troyes Aube Radio
DESCRIPTION:
URL:https://www.yvesromao.fr/date/5-ans-troyes-aube-radio/
LOCATION:Troyes\, Troyes\, 10000
END:VEVENT
BEGIN:VEVENT
DTSTART;TZID=Europe/Paris:20260522T200000
DTEND;TZID=Europe/Paris:20260522T220000
DTSTAMP:20260420T033506
CREATED:20260106T092311Z
LAST-MODIFIED:20260106T092311Z
UID:85895-1779480000-1779487200@www.yvesromao.fr
SUMMARY:Au Bureau – Laon (02)
DESCRIPTION:
URL:https://www.yvesromao.fr/date/au-bureau-laon-02-2/
LOCATION:Laon\, 02000
END:VEVENT
BEGIN:VEVENT
DTSTART;TZID=Europe/Paris:20260523T200000
DTEND;TZID=Europe/Paris:20260523T220000
DTSTAMP:20260420T033506
CREATED:20260106T092455Z
LAST-MODIFIED:20260106T092455Z
UID:85897-1779566400-1779573600@www.yvesromao.fr
SUMMARY:My Beers – Saint-Julien-les-Villas (10)
DESCRIPTION:
URL:https://www.yvesromao.fr/date/my-beers-saint-julien-les-villas-10/
LOCATION:Saint-Julien-les-Villas\, Saint-Julien-les-Villas\, 10800\, France
END:VEVENT
BEGIN:VEVENT
DTSTART;TZID=Europe/Paris:20260528T190000
DTEND;TZID=Europe/Paris:20260528T210000
DTSTAMP:20260420T033506
CREATED:20260312T150734Z
LAST-MODIFIED:20260312T151343Z
UID:85934-1779994800-1780002000@www.yvesromao.fr
SUMMARY:V And B – Saint-Parres-aux-Tertres (10)
DESCRIPTION:
URL:https://www.yvesromao.fr/date/v-and-b-saint-parres-aux-tertres-10/
LOCATION:V and B – Saint-Parres-aux-Tertres\, 12 Rue des Magnolias\, Saint-Parres-aux-Tertres\, 10410\, France
END:VEVENT
BEGIN:VEVENT
DTSTART;TZID=Europe/Paris:20260619T150000
DTEND;TZID=Europe/Paris:20260619T170000
DTSTAMP:20260420T033506
CREATED:20260312T150853Z
LAST-MODIFIED:20260312T150853Z
UID:85937-1781881200-1781888400@www.yvesromao.fr
SUMMARY:Concert Privé – Saint-Germainmont (08)
DESCRIPTION:
URL:https://www.yvesromao.fr/date/concert-prive-saint-germainmont-08/
LOCATION:Saint-Germainmont\, Saint-Germainmont\, 08190\, France
END:VEVENT
BEGIN:VEVENT
DTSTART;TZID=Europe/Paris:20260930T150000
DTEND;TZID=Europe/Paris:20260930T160000
DTSTAMP:20260420T033506
CREATED:20260106T092559Z
LAST-MODIFIED:20260106T092559Z
UID:85900-1790780400-1790784000@www.yvesromao.fr
SUMMARY:Concert Privé - Saint-Laurent-sur-Saône (01)
DESCRIPTION:
URL:https://www.yvesromao.fr/date/concert-prive-saint-laurent-sur-saone-01-2/
LOCATION:Saint-Laurent-sur-Saône\, 01750\, France
END:VEVENT
BEGIN:VEVENT
DTSTART;TZID=Europe/Paris:20261029T150000
DTEND;TZID=Europe/Paris:20261029T170000
DTSTAMP:20260420T033506
CREATED:20260312T151004Z
LAST-MODIFIED:20260312T151004Z
UID:85940-1793286000-1793293200@www.yvesromao.fr
SUMMARY:Concert Privé – Cormontreuil (51)
DESCRIPTION:
URL:https://www.yvesromao.fr/date/concert-prive-cormontreuil-51-2/
LOCATION:Cormontreuil\, 51350\, France
END:VEVENT
BEGIN:VEVENT
DTSTART;TZID=Europe/Paris:20261114T180000
DTEND;TZID=Europe/Paris:20261114T200000
DTSTAMP:20260420T033506
CREATED:20260106T092723Z
LAST-MODIFIED:20260106T092723Z
UID:85903-1794679200-1794686400@www.yvesromao.fr
SUMMARY:Spectacle de fin d’année Vice Vers’ Love – Pont-Sainte-Marie (10)
DESCRIPTION:
URL:https://www.yvesromao.fr/date/spectacle-de-fin-dannee-vice-vers-love-pont-sainte-marie-10/
LOCATION:Pont-Sainte-Marie\, Pont-Sainte-Marie\, 10150\, France
END:VEVENT
BEGIN:VEVENT
DTSTART;TZID=Europe/Paris:20261127T200000
DTEND;TZID=Europe/Paris:20261127T220000
DTSTAMP:20260420T033506
CREATED:20260106T092842Z
LAST-MODIFIED:20260106T092842Z
UID:85906-1795809600-1795816800@www.yvesromao.fr
SUMMARY:Au Bureau – Château-Thierry (02)
DESCRIPTION:
URL:https://www.yvesromao.fr/date/au-bureau-chateau-thierry-02-2/
LOCATION:Chateau-Thierry\, Château-Thierry\, 02400\, France
END:VEVENT
BEGIN:VEVENT
DTSTART;TZID=Europe/Paris:20261128T150000
DTEND;TZID=Europe/Paris:20261128T170000
DTSTAMP:20260420T033506
CREATED:20260312T151037Z
LAST-MODIFIED:20260312T151037Z
UID:85943-1795878000-1795885200@www.yvesromao.fr
SUMMARY:Concert Privé – Sermaize-les-Bains (51)
DESCRIPTION:
URL:https://www.yvesromao.fr/date/concert-prive-sermaize-les-bains-51/
LOCATION:Sermaize-les-Bains\, Sermaize-les-Bains\, 51250\, France
END:VEVENT
BEGIN:VEVENT
DTSTART;TZID=Europe/Paris:20261211T150000
DTEND;TZID=Europe/Paris:20261211T170000
DTSTAMP:20260420T033506
CREATED:20260312T151142Z
LAST-MODIFIED:20260312T151142Z
UID:85946-1797001200-1797008400@www.yvesromao.fr
SUMMARY:Concert Privé – Creney-Près-Troyes (10)
DESCRIPTION:
URL:https://www.yvesromao.fr/date/concert-prive-creney-pres-troyes-10/
LOCATION:Creney-Près-Troyes\, Creney-Près-Troyes\, 10150\, France
END:VEVENT
BEGIN:VEVENT
DTSTART;TZID=Europe/Paris:20261219T200000
DTEND;TZID=Europe/Paris:20261219T220000
DTSTAMP:20260420T033506
CREATED:20260106T092943Z
LAST-MODIFIED:20260106T092943Z
UID:85908-1797710400-1797717600@www.yvesromao.fr
SUMMARY:My Beers – Saint-Julien-les-Villas (10)
DESCRIPTION:
URL:https://www.yvesromao.fr/date/my-beers-saint-julien-les-villas-10-2/
LOCATION:Saint-Julien-les-Villas\, Saint-Julien-les-Villas\, 10800\, France
END:VEVENT
END:VCALENDAR